BEGIN:VCALENDAR
VERSION:2.0
PRODID:-//hacksw/handcal//NONSGML v1.0//EN
CALSCALE:GREGORIAN
BEGIN:VEVENT
UID:69eb5145dc12c
DTSTAMP:20260424T111725
DTSTART:20210427T130000
DTEND:20210427T133000
LOCATION:
DESCRIPTION:Kurze Einführung in den peka Trauerdruck-Assistenten online
URL;VALUE=URI:
SUMMARY:Webinar
END:VEVENT
END:VCALENDAR