BEGIN:VCALENDAR
VERSION:2.0
PRODID:-//hacksw/handcal//NONSGML v1.0//EN
CALSCALE:GREGORIAN
BEGIN:VEVENT
UID:69ea1bb8d90fd
DTSTAMP:20260423T131640
DTSTART:20210408T130000
DTEND:20210408T133000
LOCATION:
DESCRIPTION:Kurze Einführung in den peka Trauerdruck-Assistenten online
URL;VALUE=URI:
SUMMARY:Webinar
END:VEVENT
END:VCALENDAR