BEGIN:VCALENDAR
VERSION:2.0
PRODID:-//hacksw/handcal//NONSGML v1.0//EN
CALSCALE:GREGORIAN
BEGIN:VEVENT
UID:69ea0beda3fb4
DTSTAMP:20260423T120917
DTSTART:20210406T130000
DTEND:20210406T133000
LOCATION:
DESCRIPTION:Kurze Einführung in den peka Trauerdruck-Assistenten online
URL;VALUE=URI:
SUMMARY:Webinar
END:VEVENT
END:VCALENDAR