BEGIN:VCALENDAR
VERSION:2.0
PRODID:-//hacksw/handcal//NONSGML v1.0//EN
CALSCALE:GREGORIAN
BEGIN:VEVENT
UID:69ea0c5f0c5f6
DTSTAMP:20260423T121111
DTSTART:20201216T140000
DTEND:20201216T143000
LOCATION:
DESCRIPTION:Kurze Einführung in die peka Trauerdruck-Cloud
URL;VALUE=URI:
SUMMARY:Webinar
END:VEVENT
END:VCALENDAR