BEGIN:VCALENDAR
VERSION:2.0
PRODID:-//hacksw/handcal//NONSGML v1.0//EN
CALSCALE:GREGORIAN
BEGIN:VEVENT
UID:69ea07e4f3141
DTSTAMP:20260423T115204
DTSTART:20201215T100000
DTEND:20201215T103000
LOCATION:
DESCRIPTION:Kurze Einführung in die peka Trauerdruck-Cloud
URL;VALUE=URI:
SUMMARY:Webinar
END:VEVENT
END:VCALENDAR