BEGIN:VCALENDAR
VERSION:2.0
PRODID:-//hacksw/handcal//NONSGML v1.0//EN
CALSCALE:GREGORIAN
BEGIN:VEVENT
UID:69eb5127b2a10
DTSTAMP:20260424T111655
DTSTART:20211216T130000
DTEND:20211216T133000
LOCATION:
DESCRIPTION:Kurze Einführung in den peka Trauerdruck-Assistenten online
URL;VALUE=URI:
SUMMARY:Webinar
END:VEVENT
END:VCALENDAR